BEGIN:VCALENDAR
VERSION:2.0
PRODID:-//Evolve Music - ECPv6.15.18//NONSGML v1.0//EN
CALSCALE:GREGORIAN
METHOD:PUBLISH
X-WR-CALNAME:Evolve Music
X-ORIGINAL-URL:https://evolvemusic.org.uk
X-WR-CALDESC:Events for Evolve Music
REFRESH-INTERVAL;VALUE=DURATION:PT1H
X-Robots-Tag:noindex
X-PUBLISHED-TTL:PT1H
BEGIN:VTIMEZONE
TZID:Europe/London
BEGIN:DAYLIGHT
TZOFFSETFROM:+0000
TZOFFSETTO:+0100
TZNAME:BST
DTSTART:20250330T010000
END:DAYLIGHT
BEGIN:STANDARD
TZOFFSETFROM:+0100
TZOFFSETTO:+0000
TZNAME:GMT
DTSTART:20251026T010000
END:STANDARD
BEGIN:DAYLIGHT
TZOFFSETFROM:+0000
TZOFFSETTO:+0100
TZNAME:BST
DTSTART:20260329T010000
END:DAYLIGHT
BEGIN:STANDARD
TZOFFSETFROM:+0100
TZOFFSETTO:+0000
TZNAME:GMT
DTSTART:20261025T010000
END:STANDARD
BEGIN:DAYLIGHT
TZOFFSETFROM:+0000
TZOFFSETTO:+0100
TZNAME:BST
DTSTART:20270328T010000
END:DAYLIGHT
BEGIN:STANDARD
TZOFFSETFROM:+0100
TZOFFSETTO:+0000
TZNAME:GMT
DTSTART:20271031T010000
END:STANDARD
END:VTIMEZONE
BEGIN:VEVENT
DTSTART;TZID=Europe/London:20260403T174500
DTEND;TZID=Europe/London:20260403T184500
DTSTAMP:20260421T090905
CREATED:20251121T095533Z
LAST-MODIFIED:20251210T140644Z
UID:3381-1775238300-1775241900@evolvemusic.org.uk
SUMMARY:Sound Lab Online
DESCRIPTION:Get creative from home with Sound Lab Online! \nWe invite young people (aged 14+) with ASC or additional learning needs to connect and collaborate through our free\, fun\, and social online music programme! Over the course of 1-hour sessions\, we’ll guide you through composition skills\, music production techniques\, and interactive musical games. You will need access to a screen camera and a Zoom account. Boost your skills and make some noise with us at Sound Lab Online! \nGet in contact with mark@evolvemusic.org.uk if you would like to try or join this group and we will complete an inclusion form with you to make sure you can get the most out of these sessions.
URL:https://evolvemusic.org.uk/whats-on/sound-lab-online-10/
LOCATION:Radstock Youth Hub\, Church Street\, Radstock\, Bath and North East Somerset\, BA3 3QG\, United Kingdom
ORGANIZER;CN="Evolve Music":MAILTO:mark@evolvemusic.org.uk
END:VEVENT
END:VCALENDAR